BEGIN:VCALENDAR
PRODID:-//Veranstaltung//EN
VERSION:2.0
CALSCALE:GREGORIAN
BEGIN:VEVENT
DTSTART;VALUE=DATE-TIME:20251113T000000
DTEND;VALUE=DATE-TIME:20251114T235959
SUMMARY:Eröffnungssitzung der Future Leaders Political Academy auf Malta
LOCATION:
DESCRIPTION:Die maltesische Partei Partit Nazzjonalista hat gemeinsam mit AŻAD eine weitere Ausgabe des Ausbildungs- und Fortbildungsprogramms Future Leaders für junge Menschen gestartet. Ziel ist es, eine neue Gruppe angehender Nachwuchspolitiker auszubilden, die eine politische Laufbahn innerhalb des Partit Nazzjonalista anstreben. Auch dieses Mal wird das Programm von der Konrad-Adenauer-Stiftung unterstützt.
UID:
END:VEVENT
END:VCALENDAR