BEGIN:VCALENDAR
PRODID:-//Veranstaltung//EN
VERSION:2.0
CALSCALE:GREGORIAN
BEGIN:VEVENT
DTSTART;VALUE=DATE-TIME:20251113T000000
DTEND;VALUE=DATE-TIME:20251114T235959
SUMMARY:Sessione di apertura della Future Leaders Political Academy a Malta
LOCATION:
DESCRIPTION:Il Partito Nazionalista maltese, insieme a AŻAD, ha avviato una nuova edizione del programma di formazione Future Leaders per i giovani. L’obiettivo è formare una nuova generazione di aspiranti politici che vogliono intraprendere una carriera politica all'interno del Partito Nazionalista. Anche questa volta, il programma è sostenuto dalla Konrad-Adenauer-Stiftung.
UID:
END:VEVENT
END:VCALENDAR