BEGIN:VCALENDAR
PRODID:-//Veranstaltung//EN
VERSION:2.0
CALSCALE:GREGORIAN
BEGIN:VEVENT
DTSTART;VALUE=DATE-TIME:20251210T140000
DTEND;VALUE=DATE-TIME:20251210T160000
SUMMARY:German-Romanian Media Conference
LOCATION:
DESCRIPTION:
UID:
END:VEVENT
END:VCALENDAR