BEGIN:VCALENDAR
PRODID:-//Veranstaltung//EN
VERSION:2.0
CALSCALE:GREGORIAN
BEGIN:VEVENT
DTSTART;VALUE=DATE-TIME:20250730T000000
DTEND;VALUE=DATE-TIME:20250803T235959
SUMMARY:Make Europe Think Again – Genua
LOCATION:
DESCRIPTION:In Genua haben wir die jungen European Democrat Students begrüßt, die an der Summer School 2025 teilnehmen.
UID:
END:VEVENT
END:VCALENDAR