BEGIN:VCALENDAR
PRODID:-//Veranstaltung//EN
VERSION:2.0
CALSCALE:GREGORIAN
BEGIN:VEVENT
DTSTART;VALUE=DATE-TIME:20250730T000000
DTEND;VALUE=DATE-TIME:20250803T235959
SUMMARY:Make Europe Think Again – Genova
LOCATION:
DESCRIPTION:A Genova abbiamo accolto i giovani European Democrat Students che partecipano alla Summer School 2025.
UID:
END:VEVENT
END:VCALENDAR