BEGIN:VCALENDAR
PRODID:-//Veranstaltung//EN
VERSION:2.0
CALSCALE:GREGORIAN
BEGIN:VEVENT
DTSTART;VALUE=DATE-TIME:20251212T130000
DTEND;VALUE=DATE-TIME:20251212T170000
SUMMARY:พหุขั้วอำนาจกับบทบาทของสหภาพยุโรปเชิงภูมิรัฐศาสตร์: ทางเลือกเชิงยุทธศาสตร์ต่ออาเซียนและไทย
LOCATION:Bangkok
DESCRIPTION:การเปลี่ยนแปลงของภูมิภาคอินโด-แปซิฟิกไปสู่การแข่งขันแบบพหุขั้วอำนาจได้เพิ่มความสำคัญเชิงยุทธศาสตร์ของอาเซียน และกระตุ้นให้สหภาพยุโรปดำเนินบทบาททางภูมิรัฐศาสตร์ในภูมิภาคมากขึ้น ประเทศไทยมองว่าสหภาพยุโรปเป็นพันธมิตรที่สามารถช่วยสร้างสมดุลระหว่างการแข่งขันของมหาอำนาจ พร้อมทั้งมอบโอกาสในด้านการค้า ความยืดหยุ่นของห่วงโซ่อุปทาน การเปลี่ยนผ่านสู่ดิจิทัลและการเปลี่ยนผ่านสีเขียว และความร่วมมือด้านกฎระเบียบ ในขณะเดียวกัน แนวทางการกำหนดมาตรการและกฎระเบียบที่เข้มงวดของสหภาพยุโรปก็สร้างทั้งประโยชน์และความตึงเครียดให้กับรูปแบบความร่วมมือของอาเซียน ดังนั้น ในแง่หนึ่ง การมีส่วนร่วมของสหภาพยุโรปกับประเทศไทยจะมีประโยชน์ในทางเศรษฐกิจ ในขณะเดียวกัน ในอีกแง่ประเทศไทยก็ต้องรักษาความยืดหยุ่นเชิงยุทธศาสตร์และรักษาบทบาทศูนย์กลางของอาเซียนไว้ด้วย
UID:
END:VEVENT
END:VCALENDAR