BEGIN:VCALENDAR
PRODID:-//Veranstaltung//EN
VERSION:2.0
CALSCALE:GREGORIAN
BEGIN:VEVENT
DTSTART;VALUE=DATE-TIME:20251216T130000
DTEND;VALUE=DATE-TIME:20251216T170000
SUMMARY:ภูมิรัฐศาสตร์และภูมิทัศน์ด้านความมั่นคงใน อินโด –แปซิฟิก:  มุมมองทางทหารต่อความท้าทายใหม่และการปรับตัวในระดับภูมิภาค
LOCATION:
DESCRIPTION:การแข่งขันระหว่างมหาอำนาจ โดยเฉพาะอย่างยิ่งระหว่างสหรัฐอเมริกาและจีน กำลังเปลี่ยนแปลงภูมิภาคอินโด-แปซิฟิก และสร้างแรงกดดันมากขึ้นต่อกรอบความมั่นคงในภูมิภาค การพัฒนากองทัพของจีนและการใช้ยุทธวิธีในเขตสีเทาได้เพิ่มความตึงเครียดทางทะเล ในขณะที่ประเด็นอื่นๆ เช่น ปฏิบัติการทางไซเบอร์ สงครามข้อมูล และเทคโนโลยีขั้นสูง ก็กำลังกำหนดนิยามใหม่ของการวางแผนด้านการป้องกันประเทศ พลวัตเหล่านี้ท้าทายศักยภาพของอาเซียนในการส่งมอบผลลัพธ์ด้านความมั่นคงที่เป็นรูปธรรม แต่ก็เน้นย้ำบทบาทของอาเซียนในฐานะเวทีสำคัญสำหรับการเจรจา สำหรับประเทศไทย นี่เป็นทั้งความเสี่ยงและโอกาสเชิงกลยุทธ์ การกำหนดลำดับความสำคัญด้านการป้องกันประเทศที่พร้อมปรับเปลี่ยนตามสถานการณ์ กลไกการจัดการวิกฤตที่แข็งแกร่งขึ้น และความร่วมมือที่ลึกซึ้งยิ่งขึ้นกับพันธมิตรในภูมิภาค จะมีความสำคัญอย่างยิ่งต่อการรักษาความพร้อมรับมือกับการแข่งขันทางภูมิรัฐศาสตร์ที่ทวีความรุนแรงขึ้น
UID:
END:VEVENT
END:VCALENDAR