BEGIN:VCALENDAR
PRODID:-//Veranstaltung//EN
VERSION:2.0
CALSCALE:GREGORIAN
BEGIN:VEVENT
DTSTART;VALUE=DATE-TIME:20251216T140000
DTEND;VALUE=DATE-TIME:20251216T150000
SUMMARY:Militarisierung der Industrie in den vorübergehend besetzten Gebieten der Ukraine
LOCATION:
DESCRIPTION:Am 16. Dezember um 14:00 Uhr findet die Präsentation des Analyseberichts „Militarisierung der Industrie in den vorübergehend besetzten Gebieten der Ukraine: Infrastrukturreste, repressive Praktiken und militärisch-industrielle Vektoren der Russischen Föderation” statt.
UID:
END:VEVENT
END:VCALENDAR