BEGIN:VCALENDAR
PRODID:-//Veranstaltung//EN
VERSION:2.0
CALSCALE:GREGORIAN
BEGIN:VEVENT
DTSTART;VALUE=DATE-TIME:20251216T140000
DTEND;VALUE=DATE-TIME:20251216T150000
SUMMARY:Militarization of industry in the temporarily occupied territories of Ukraine
LOCATION:
DESCRIPTION:On 16 December at 2:00 PM, the presentation of the analytical report
“Militarization of Industry in the Temporarily Occupied Territories of Ukraine: Infrastructure Remnants, Repressive Practices, and Russia’s Military-Industrial Vectors” will take place.
UID:
END:VEVENT
END:VCALENDAR