BEGIN:VCALENDAR
PRODID:-//Veranstaltung//EN
VERSION:2.0
CALSCALE:GREGORIAN
BEGIN:VEVENT
DTSTART;VALUE=DATE-TIME:20251216T140000
DTEND;VALUE=DATE-TIME:20251216T150000
SUMMARY:Мілітаризація промисловості на тимчасово окупованих територіях України
LOCATION:
DESCRIPTION:16 грудня о 14:00 відбудеться презентація аналітичного звіту «Мілітаризація промисловості на тимчасово окупованих територіях України: інфраструктурні залишки, репресивні практики та військово-промислові вектори РФ».
UID:
END:VEVENT
END:VCALENDAR