BEGIN:VCALENDAR
PRODID:-//Veranstaltung//EN
VERSION:2.0
CALSCALE:GREGORIAN
BEGIN:VEVENT
DTSTART;VALUE=DATE-TIME:20251216T000000
DTEND;VALUE=DATE-TIME:20251216T235959
SUMMARY:Promoting Citizenship and Participation in Local Governance in Thailand (Workshop 6)
LOCATION:
DESCRIPTION:
UID:
END:VEVENT
END:VCALENDAR