BEGIN:VCALENDAR
PRODID:-//Veranstaltung//EN
VERSION:2.0
CALSCALE:GREGORIAN
BEGIN:VEVENT
DTSTART;VALUE=DATE-TIME:20260106T000000
DTEND;VALUE=DATE-TIME:20260106T235959
SUMMARY:150 Jahre Konrad Adenauer
LOCATION:
DESCRIPTION:Konrad Adenauer prägte die deutsche Nachkriegsgeschichte wie kaum ein anderer. Zum 150. Geburtstag des ersten Bundeskanzlers beleuchtet diese Veranstaltung sein politisches Wirken, seine Vision von Demokratie und seine Rolle im Aufbau der Bundesrepublik.
UID:
END:VEVENT
END:VCALENDAR