BEGIN:VCALENDAR
PRODID:-//Veranstaltung//EN
VERSION:2.0
CALSCALE:GREGORIAN
BEGIN:VEVENT
DTSTART;VALUE=DATE-TIME:20260316T190000
DTEND;VALUE=DATE-TIME:20260316T203000
SUMMARY:Neue Welt(un)ordnung?
LOCATION:Sigmaringen
DESCRIPTION:
UID:
END:VEVENT
END:VCALENDAR