BEGIN:VCALENDAR
PRODID:-//Veranstaltung//EN
VERSION:2.0
CALSCALE:GREGORIAN
BEGIN:VEVENT
DTSTART;VALUE=DATE-TIME:20260206T090000
DTEND;VALUE=DATE-TIME:20260209T235959
SUMMARY:Parliamentary Pathways for Climate, Innovation, and Civic Engagement in MENA–Mediterranean
LOCATION:
DESCRIPTION:The conference will convene parliamentarians, experts, policymakers, and key stakeholders from the MENA region and the European Union to discuss regional climate challenges and explore opportunities for collaborative solutions.
UID:
END:VEVENT
END:VCALENDAR