BEGIN:VCALENDAR
PRODID:-//Veranstaltung//EN
VERSION:2.0
CALSCALE:GREGORIAN
BEGIN:VEVENT
DTSTART;VALUE=DATE-TIME:20260108T123000
DTEND;VALUE=DATE-TIME:20260108T133000
SUMMARY:Webinaire - L'économie allemande face aux crises
LOCATION:
DESCRIPTION:
UID:
END:VEVENT
END:VCALENDAR