BEGIN:VCALENDAR
PRODID:-//Veranstaltung//EN
VERSION:2.0
CALSCALE:GREGORIAN
BEGIN:VEVENT
DTSTART;VALUE=DATE-TIME:20260123T100000
DTEND;VALUE=DATE-TIME:20260123T120000
SUMMARY:Einigkeit und Recht und Freiheit – Werte, die wir verteidigen
LOCATION:
DESCRIPTION:Die dritte Ausgabe des Rheingauer Gesprächs widmet sich der Trias des Deutschlandliedes und ihrer Bedeutung für unsere freiheitliche Ordnung. Als Impulsgeber wird Philipp Amthor MdB, Parlamentarischer Staatssekretär beim Bundesminister für Digitales und Staatsmodernisierung,  diskutieren, wie wir die Werte von Einigkeit, Recht und Freiheit in Zeiten neuer Herausforderungen bewahren.
UID:
END:VEVENT
END:VCALENDAR