BEGIN:VCALENDAR
PRODID:-//Veranstaltung//EN
VERSION:2.0
CALSCALE:GREGORIAN
BEGIN:VEVENT
DTSTART;VALUE=DATE-TIME:20260326T073000
DTEND;VALUE=DATE-TIME:20260326T093000
SUMMARY:Ostasien im Umbruch: China unter Xi Jinping
LOCATION:Osterholz-Scharmbeck
DESCRIPTION:
UID:
END:VEVENT
END:VCALENDAR