BEGIN:VCALENDAR
PRODID:-//Veranstaltung//EN
VERSION:2.0
CALSCALE:GREGORIAN
BEGIN:VEVENT
DTSTART;VALUE=DATE-TIME:20260128T183000
DTEND;VALUE=DATE-TIME:20260128T203000
SUMMARY:Das Erwachsene Land
LOCATION:Hamburg
DESCRIPTION:Wie sieht Deutschlands Zukunft ohne den gewohnten amerikanischen Rückhalt aus?
UID:
END:VEVENT
END:VCALENDAR