BEGIN:VCALENDAR
PRODID:-//Veranstaltung//EN
VERSION:2.0
CALSCALE:GREGORIAN
BEGIN:VEVENT
DTSTART;VALUE=DATE-TIME:20260127T183000
DTEND;VALUE=DATE-TIME:20260127T200000
SUMMARY:Gegen das Vergessen
LOCATION:Hamburg
DESCRIPTION:Am 27. Januar 2026, dem internationalen Holocaust-Gedenktag, laden wir Sie ein, gemeinsam ein Zeichen zu setzen: Für das Erinnern, gegen das Vergessen.
UID:
END:VEVENT
END:VCALENDAR