BEGIN:VCALENDAR
PRODID:-//Veranstaltung//EN
VERSION:2.0
CALSCALE:GREGORIAN
BEGIN:VEVENT
DTSTART;VALUE=DATE-TIME:20260810T000000
DTEND;VALUE=DATE-TIME:20260828T235959
SUMMARY:Ausstellung "Demokratie, Freiheit, Europa. Konrad Adenauer"
LOCATION:Erfurt
DESCRIPTION:
UID:
END:VEVENT
END:VCALENDAR