BEGIN:VCALENDAR
PRODID:-//Veranstaltung//EN
VERSION:2.0
CALSCALE:GREGORIAN
BEGIN:VEVENT
DTSTART;VALUE=DATE-TIME:20260317T000000
DTEND;VALUE=DATE-TIME:20260317T235959
SUMMARY:Vom Wert und vom Wesen der Demokratie
LOCATION:
DESCRIPTION:
UID:
END:VEVENT
END:VCALENDAR