BEGIN:VCALENDAR
PRODID:-//Veranstaltung//EN
VERSION:2.0
CALSCALE:GREGORIAN
BEGIN:VEVENT
DTSTART;VALUE=DATE-TIME:20260201T000000
DTEND;VALUE=DATE-TIME:20260201T235959
SUMMARY:Campamento Electoral
LOCATION:
DESCRIPTION:Objetivo: Fomentar la participación ciudadana de las personas jóvenes en la política nacional a partir de la vivencia de un proceso electoral; desde lo interno del Tribunal Supremo de Elecciones.
UID:
END:VEVENT
END:VCALENDAR