BEGIN:VCALENDAR
PRODID:-//Veranstaltung//EN
VERSION:2.0
CALSCALE:GREGORIAN
BEGIN:VEVENT
DTSTART;VALUE=DATE-TIME:20260212T190000
DTEND;VALUE=DATE-TIME:20260212T210000
SUMMARY:150 anni di Konrad Adenauer: uomo di pace, cattolico, europeo
LOCATION:
DESCRIPTION:In occasione del 150º anniversario della nascita di Konrad Adenauer, desideriamo invitarVi cordialmente al nostro evento “150 anni Konrad Adenauer – Riconciliatore, cattolico, europeo”, che si terrà il 12 febbraio 2026.
L’incontro sarà dedicato a ricordare l’eredità politica e il significato storico del primo Cancelliere federale, approfondendo al contempo l’attualità dei suoi valori di responsabilità, riconciliazione e cooperazione europea.

Ulteriori informazioni sono disponibili nel programma allegato. Per partecipare è richiesto l’accredito inviando una mail entro e non oltre il giorno 09 febbraio 2026 a: risposte-vat@rom.diplo.de.
UID:
END:VEVENT
END:VCALENDAR