BEGIN:VCALENDAR
PRODID:-//Veranstaltung//EN
VERSION:2.0
CALSCALE:GREGORIAN
BEGIN:VEVENT
DTSTART;VALUE=DATE-TIME:20260121T073000
DTEND;VALUE=DATE-TIME:20260122T150000
SUMMARY:Leben mit der Mauer – Von der Teilung bis zur Einheit
LOCATION:Großkrotzenburg
DESCRIPTION:Die zweitägige Veranstaltung vermittelt Schülerinnen und Schülern einen anschaulichen Zugang zur Geschichte der DDR und der deutschen Teilung.
UID:
END:VEVENT
END:VCALENDAR