BEGIN:VCALENDAR
PRODID:-//Veranstaltung//EN
VERSION:2.0
CALSCALE:GREGORIAN
BEGIN:VEVENT
DTSTART;VALUE=DATE-TIME:20260116T000000
DTEND;VALUE=DATE-TIME:20260118T235959
SUMMARY:Women in Politics
LOCATION:
DESCRIPTION:The KAS Croatia-Slowenia Office is organising together with the Croatian Statehood Foundation (ZHDZ) the seminar "Women in Politics" from January 16th to 18th, 2026, in Novska.
UID:
END:VEVENT
END:VCALENDAR