BEGIN:VCALENDAR
PRODID:-//Veranstaltung//EN
VERSION:2.0
CALSCALE:GREGORIAN
BEGIN:VEVENT
DTSTART;VALUE=DATE-TIME:20260116T000000
DTEND;VALUE=DATE-TIME:20260118T235959
SUMMARY:Žene u politici
LOCATION:
DESCRIPTION:Ured KAS-a za Hrvatsku i Sloveniju organizira zajedno sa Zakladom hrvatskog državnog zavjeta od 16. do 18. siječnja 2026. godine u Novskoj seminar pod nazivom "Žene u politici".
UID:
END:VEVENT
END:VCALENDAR