BEGIN:VCALENDAR
PRODID:-//Veranstaltung//EN
VERSION:2.0
CALSCALE:GREGORIAN
BEGIN:VEVENT
DTSTART;VALUE=DATE-TIME:20260123T000000
DTEND;VALUE=DATE-TIME:20260125T235959
SUMMARY:Politische Akademie: Zwischenevaluation
LOCATION:Rovinj
DESCRIPTION:Das KAS-Auslandsbüro Kroatien-Slowenien veranstaltet in Zusammenarbeit mit der HDZ-Stiftung (ZHDZ) vom 23. bis 25. Januaer 2026 in Rovinj die übliche "Zwischenevaluation“ des 19. Jahrgangs der politischen Nachwuchsförderung der ZHDZ.
UID:
END:VEVENT
END:VCALENDAR