BEGIN:VCALENDAR
PRODID:-//Veranstaltung//EN
VERSION:2.0
CALSCALE:GREGORIAN
BEGIN:VEVENT
DTSTART;VALUE=DATE-TIME:20260123T000000
DTEND;VALUE=DATE-TIME:20260125T235959
SUMMARY:Political academy: Interim Evaluation
LOCATION:Rovinj
DESCRIPTION:The KAS Croatia-Slovenia Office together with the Croatian Statehood Foundation (ZHDZ) is organizing the regular event "interim evaluation" of the 19th generation of the ZHDZ's junior political education program from January 23rd to 25th, 2026.
UID:
END:VEVENT
END:VCALENDAR