BEGIN:VCALENDAR
PRODID:-//Veranstaltung//EN
VERSION:2.0
CALSCALE:GREGORIAN
BEGIN:VEVENT
DTSTART;VALUE=DATE-TIME:20260313T000000
DTEND;VALUE=DATE-TIME:20260313T235959
SUMMARY:Reporter Slam Africa 2026
LOCATION:
DESCRIPTION:Reporter Slam Africa returns for its third edition, bringing powerful journalism and creative storytelling to Kampala, Uganda. On 13 March 2026, six journalists from across Sub-Saharan Africa will take to the stage to compete for the title of Reporter Slam Africa Champion 2026
UID:
END:VEVENT
END:VCALENDAR