BEGIN:VCALENDAR
PRODID:-//Veranstaltung//EN
VERSION:2.0
CALSCALE:GREGORIAN
BEGIN:VEVENT
DTSTART;VALUE=DATE-TIME:20260218T183000
DTEND;VALUE=DATE-TIME:20260218T203000
SUMMARY:Gesundheitsversorgung in Zeiten des Friedens, der Krise oder im Krieg
LOCATION:Hamburg
DESCRIPTION:Mehr denn je steht die Verteidigungsnotwendigkeit und -fähigkeit der europäischen NATO-Staaten im Fokus der Diskussion.
Verteidigungsfähigkeit bedeutet aber mehr als Einsatzbereitschaft der Streitkräfte. Es geht um eine gesamtgesellschaftliche Aufgabe, die auch Blaulichtorganisationen, Behörden und Unternehmen betreffen.
UID:
END:VEVENT
END:VCALENDAR