BEGIN:VCALENDAR
PRODID:-//Veranstaltung//EN
VERSION:2.0
CALSCALE:GREGORIAN
BEGIN:VEVENT
DTSTART;VALUE=DATE-TIME:20260507T183000
DTEND;VALUE=DATE-TIME:20260507T200000
SUMMARY:Russland und der "geteilte Westen”
LOCATION:Osnabrück
DESCRIPTION:
UID:
END:VEVENT
END:VCALENDAR