BEGIN:VCALENDAR
PRODID:-//Veranstaltung//EN
VERSION:2.0
CALSCALE:GREGORIAN
BEGIN:VEVENT
DTSTART;VALUE=DATE-TIME:20260210T080000
DTEND;VALUE=DATE-TIME:20260210T150000
SUMMARY:Entrepreneurship-Grundlagen und Startup-Methoden
LOCATION:
DESCRIPTION:Der Workshop „Entrepreneurship-Grundlagen und Startup-Methoden“ vermittelt Schülerinnen und Schülern zentrale Werkzeuge der modernen Gründungspraxis. Ziel ist es, die Gründungsaffinität der nächsten Generation zu stärken und Einblicke in unternehmerisches Denken zu geben.
UID:
END:VEVENT
END:VCALENDAR