BEGIN:VCALENDAR
PRODID:-//Veranstaltung//EN
VERSION:2.0
CALSCALE:GREGORIAN
BEGIN:VEVENT
DTSTART;VALUE=DATE-TIME:20260422T183000
DTEND;VALUE=DATE-TIME:20260422T200000
SUMMARY:Wettbewerb, Kooperation, Konfrontation? Europas Antwort auf Xi Jinpings China
LOCATION:Vechta
DESCRIPTION:
UID:
END:VEVENT
END:VCALENDAR