BEGIN:VCALENDAR
PRODID:-//Veranstaltung//EN
VERSION:2.0
CALSCALE:GREGORIAN
BEGIN:VEVENT
DTSTART;VALUE=DATE-TIME:20260220T073000
DTEND;VALUE=DATE-TIME:20260220T153000
SUMMARY:Mauer, Grenze, Deutschland – Ein Blick zurück
LOCATION:Geisa
DESCRIPTION:
UID:
END:VEVENT
END:VCALENDAR