BEGIN:VCALENDAR
PRODID:-//Veranstaltung//EN
VERSION:2.0
CALSCALE:GREGORIAN
BEGIN:VEVENT
DTSTART;VALUE=DATE-TIME:20260122T090000
DTEND;VALUE=DATE-TIME:20260122T020000
SUMMARY:Southeast Asia Strategic Security Dialogue
LOCATION:
DESCRIPTION:Konrad-Adenauer-Stiftung Malaysia is organising a follow-up roundtable discussion featuring Mrs Gwendoline Vamos, Head of Indo Pacific in the Political Affairs and Security Division at NATO Headquarters in Brussels. The dialogue provides an opportunity for stakeholders to reflect on current developments, exchange perspectives and explore avenues and opportunities for sustained engagement in the region. The event will be attended by various representatives from the diplomatic corps, defence and security fraternity as well as Think Tanks and Academia. Mr. Florian Hahn, Minister of State at the Federal Foreign Office Germany and Member of German Parliament (Bundestag) will attend the event and deliver his opening remarks.  
UID:
END:VEVENT
END:VCALENDAR