BEGIN:VCALENDAR
PRODID:-//Veranstaltung//EN
VERSION:2.0
CALSCALE:GREGORIAN
BEGIN:VEVENT
DTSTART;VALUE=DATE-TIME:20260303T180000
DTEND;VALUE=DATE-TIME:20260303T204500
SUMMARY:Utrikespolitisk Afton 2026
LOCATION:Stockholm
DESCRIPTION:
UID:
END:VEVENT
END:VCALENDAR