BEGIN:VCALENDAR
PRODID:-//Veranstaltung//EN
VERSION:2.0
CALSCALE:GREGORIAN
BEGIN:VEVENT
DTSTART;VALUE=DATE-TIME:20260226T170000
DTEND;VALUE=DATE-TIME:20260226T190000
SUMMARY:Erster KAS-Alumni-Dialog 2026
LOCATION:
DESCRIPTION:Gemeinsam diskutieren wir aktuelle geopolitische Fragestellungen aus völkerrechtlicher Perspektive.
UID:
END:VEVENT
END:VCALENDAR