BEGIN:VCALENDAR
PRODID:-//Veranstaltung//EN
VERSION:2.0
CALSCALE:GREGORIAN
BEGIN:VEVENT
DTSTART;VALUE=DATE-TIME:20260213T090000
DTEND;VALUE=DATE-TIME:20260213T235959
SUMMARY:Post-State of the Nation Address (SONA) Critical Thinking Forum
LOCATION:
DESCRIPTION:
UID:
END:VEVENT
END:VCALENDAR