BEGIN:VCALENDAR
PRODID:-//Veranstaltung//EN
VERSION:2.0
CALSCALE:GREGORIAN
BEGIN:VEVENT
DTSTART;VALUE=DATE-TIME:20260206T000000
DTEND;VALUE=DATE-TIME:20260208T235959
SUMMARY:Political Leadership Excellence Program 2026’nın ilk modülü
LOCATION:
DESCRIPTION:
UID:
END:VEVENT
END:VCALENDAR