BEGIN:VCALENDAR
PRODID:-//Veranstaltung//EN
VERSION:2.0
CALSCALE:GREGORIAN
BEGIN:VEVENT
DTSTART;VALUE=DATE-TIME:20260420T000000
DTEND;VALUE=DATE-TIME:20260421T235959
SUMMARY:20.-21.04.2026 - Meine Flucht aus der DDR - Zeitzeugengespräch in Neukloster
LOCATION:
DESCRIPTION:
UID:
END:VEVENT
END:VCALENDAR