BEGIN:VCALENDAR
PRODID:-//Veranstaltung//EN
VERSION:2.0
CALSCALE:GREGORIAN
BEGIN:VEVENT
DTSTART;VALUE=DATE-TIME:20260213T090000
DTEND;VALUE=DATE-TIME:20260214T235959
SUMMARY:DIGITAL FRONTLINES: Cybersecurity, Geopolitics, and Digital Governance in the MENA Region
LOCATION:
DESCRIPTION:KAS PolDiMed and SALMA Dialogue are co-organizing an expert workshop titled: “Digital Frontlines: Cybersecurity, Geopolitics, and Digital Governance in the MENA Region” on 13 & 14 February 2026 in Tunis.
This conference frames cybersecurity as a strategic geopolitical frontier, a digital frontline where power, influence, innovation, and governance converge. It aims to elevate the discussion from operational and technical considerations to a strategic assessment of how cybercapabilities and governance choices will shape the MENA region’s security, resilience, and geopolitical positioning in the decades ahead.
UID:
END:VEVENT
END:VCALENDAR