BEGIN:VCALENDAR
PRODID:-//Veranstaltung//EN
VERSION:2.0
CALSCALE:GREGORIAN
BEGIN:VEVENT
DTSTART;VALUE=DATE-TIME:20260211T163000
DTEND;VALUE=DATE-TIME:20260211T203000
SUMMARY:Politische Analyse und Kommunikation
LOCATION:
DESCRIPTION:Das KAS-Auslandsbüro Kroatien-Slowenien veranstaltet in Zusammenarbeit mit Institut Dr. Anton Korošec (INAK) am 11. Februar 2026 in Ljubljana den ersten Workshop der Fortbildungsreihe "Politische Analyse und Kommunikation" für Nachwuchspolitiker der SLS.
UID:
END:VEVENT
END:VCALENDAR