BEGIN:VCALENDAR
PRODID:-//Veranstaltung//EN
VERSION:2.0
CALSCALE:GREGORIAN
BEGIN:VEVENT
DTSTART;VALUE=DATE-TIME:20260211T163000
DTEND;VALUE=DATE-TIME:20260211T203000
SUMMARY:Political Analysis and Communication
LOCATION:
DESCRIPTION:In cooperation with the Dr. Anton Korošec Institute (INAK), the KAS Croatia–Slovenia Office will host the first workshop of the training series “Political Analysis and Communication” for young SLS politicians on February 11th, 2026 in Ljubljana.
UID:
END:VEVENT
END:VCALENDAR