BEGIN:VCALENDAR
PRODID:-//Veranstaltung//EN
VERSION:2.0
CALSCALE:GREGORIAN
BEGIN:VEVENT
DTSTART;VALUE=DATE-TIME:20260211T163000
DTEND;VALUE=DATE-TIME:20260211T203000
SUMMARY:Politička analiza i komunikacija
LOCATION:
DESCRIPTION:U suradnji s Institutom dr. Antona Korošeca (INAK), Ured KAS-a za Hrvatsku i Sloveniju organizira 11. veljače 2026. u Ljubljani prvu radionicu stručnog usavršavanja „Politička analiza i komunikacija“ namijenjenog političkom podmlatku SLS-a.
UID:
END:VEVENT
END:VCALENDAR