BEGIN:VCALENDAR
PRODID:-//Veranstaltung//EN
VERSION:2.0
CALSCALE:GREGORIAN
BEGIN:VEVENT
DTSTART;VALUE=DATE-TIME:20260217T000000
DTEND;VALUE=DATE-TIME:20260217T235959
SUMMARY:Proceso Electoral 2026
LOCATION:
DESCRIPTION:La Fundación Konrad Adenauer (KAS) Perú y el Instituto de Estudios Social Cristiano (IESC) organizarán el foro presencial “Proceso Electoral 2026”, un espacio de análisis y reflexión sobre los principales desafíos y perspectivas del próximo proceso electoral en el país.
UID:
END:VEVENT
END:VCALENDAR