BEGIN:VCALENDAR
PRODID:-//Veranstaltung//EN
VERSION:2.0
CALSCALE:GREGORIAN
BEGIN:VEVENT
DTSTART;VALUE=DATE-TIME:20260214T000000
DTEND;VALUE=DATE-TIME:20260215T235959
SUMMARY:Speaking from the Political Centre - Clear, Inclusive and Democratic Communication
LOCATION:
DESCRIPTION:The KAS Croatia-Slovenia Office, in cooperation with the Institute “Dr. Janez Evangelist Krek” (IJEK), will organize a workshop entitled “Speaking from the Political Centre – Clear, Inclusive and Democratic Communication” from February 14th to 15th, 2026, in Portorož.
UID:
END:VEVENT
END:VCALENDAR