BEGIN:VCALENDAR
PRODID:-//Veranstaltung//EN
VERSION:2.0
CALSCALE:GREGORIAN
BEGIN:VEVENT
DTSTART;VALUE=DATE-TIME:20260310T080000
DTEND;VALUE=DATE-TIME:20260310T160000
SUMMARY:Encuentro de conocimientos:  Industria y docencia INA
LOCATION:
DESCRIPTION:Objetivo del encuentro:  Facilitar la transferencia directa de buenas prácticas, conocimientos y experiencias reales desde la industria hacia el cuerpo docente del INA, responsables del diseño curricular y de la oferta de formación técnica profesional.
UID:
END:VEVENT
END:VCALENDAR