BEGIN:VCALENDAR
PRODID:-//Veranstaltung//EN
VERSION:2.0
CALSCALE:GREGORIAN
BEGIN:VEVENT
DTSTART;VALUE=DATE-TIME:20260224T093000
DTEND;VALUE=DATE-TIME:20260224T140000
SUMMARY:Investitionen im Fokus
LOCATION:Zagreb
DESCRIPTION:Das KAS-Auslandsbüro Kroatien-Slowenien organisiert zusammen mit dem Kroatischen Verein der Gespanscaften (CCA) am 24. Februar 2026 in Zagreb im Rahmen des Regionalen Entwicklungsforums eine Veranstaltung zum Thema "Investitionen im Fokus".
UID:
END:VEVENT
END:VCALENDAR