BEGIN:VCALENDAR
PRODID:-//Veranstaltung//EN
VERSION:2.0
CALSCALE:GREGORIAN
BEGIN:VEVENT
DTSTART;VALUE=DATE-TIME:20260224T093000
DTEND;VALUE=DATE-TIME:20260224T140000
SUMMARY:Investments in Focus
LOCATION:Zagreb
DESCRIPTION:The KAS Croatia-Slovenia Office is organising in cooperation with the Croatian County Association (CCA) a conference titled “Investments in Focus” on February 24th, 2026, in Zagreb, as part of the Regional Development Forum.
UID:
END:VEVENT
END:VCALENDAR