BEGIN:VCALENDAR
PRODID:-//Veranstaltung//EN
VERSION:2.0
CALSCALE:GREGORIAN
BEGIN:VEVENT
DTSTART;VALUE=DATE-TIME:20260224T093000
DTEND;VALUE=DATE-TIME:20260224T140000
SUMMARY:Investicije u fokusu
LOCATION:Zagreb
DESCRIPTION:Ured KAS-a za Hrvatsku i Sloveniju organizira u suradnji s Hrvatskom zajednicom županija (CCA) 24. veljače 2026. u Zagrebu, u okviru Foruma regionalnog razvoja konferenciju na temu „Investicije u fokusu“.
UID:
END:VEVENT
END:VCALENDAR